BEGIN:VCALENDAR
VERSION:2.0
PRODID:-//Squarespace Inc/Squarespace 6//v6//EN
BEGIN:VEVENT
UID:5be1023c4d7a9cafd2ad702d@squarespace.com
DTSTAMP:20190703T140501Z
DTSTART:20190806T080000Z
DTEND:20190806T103000Z
SUMMARY:July HypnoBirthing Course (Class 5/5)
GEO:-36.75993;144.280752
LOCATION:Intuitive Birthing @ Barre Society\, 281A Hargreaves Street\, Bend
 igo\, VIC\, 3550\, Australia
END:VEVENT
END:VCALENDAR
