BEGIN:VCALENDAR
VERSION:2.0
PRODID:-//Squarespace Inc/Squarespace 6//v6//EN
BEGIN:VEVENT
UID:5be10213b8a045a7d719311a@squarespace.com
DTSTAMP:20190703T140412Z
DTSTART:20190730T080000Z
DTEND:20190730T103000Z
SUMMARY:July HypnoBirthing Course (Class 4/5)
GEO:-36.768476;144.29245
LOCATION:Intuitive Birthing @ Barre Society\, 281A Hargreaves Mall\, Bendig
 o\, VIC\, 3550\, Australia
END:VEVENT
END:VCALENDAR
