BEGIN:VCALENDAR
VERSION:2.0
PRODID:-//Squarespace Inc/Squarespace 6//v6//EN
BEGIN:VEVENT
UID:5bc171e3e4966bccb5655757@squarespace.com
DTSTAMP:20190703T140235Z
DTSTART:20190716T080000Z
DTEND:20190716T103000Z
SUMMARY:July HypnoBirthing Course (Class 2/5)
GEO:-36.759916;144.280409
LOCATION:Intuitive Birthing @ Barre Society\, 281A Hargreaves Mall\, Bendig
 o\, VIC\, 3550\, Australia
END:VEVENT
END:VCALENDAR
