BEGIN:VCALENDAR
VERSION:2.0
PRODID:-//Squarespace Inc/Squarespace 6//v6//EN
BEGIN:VEVENT
UID:5bc17419f4e1fcece836f060@squarespace.com
DTSTAMP:20190703T135937Z
DTSTART:20190709T080000Z
DTEND:20190709T103000Z
SUMMARY:July HypnoBirthing Course (Class 1/5)
GEO:-36.7637;144.292306
LOCATION:Intuitive Birthing @ Barre Society\, 281A Hargreaves Mall\, Bendig
 o\, VIC\, 3550\, Australia
END:VEVENT
END:VCALENDAR
