BEGIN:VCALENDAR
VERSION:2.0
PRODID:-//Squarespace Inc/Squarespace 6//v6//EN
BEGIN:VEVENT
UID:5c710ac6ee6eb02c2ad94054@squarespace.com
DTSTAMP:20190223T085812Z
DTSTART:20190602T040000Z
DTEND:20190602T063000Z
SUMMARY:April/May HypnoBirthing Course (Class 5/5) 
GEO:-36.768476;144.29245
LOCATION:Intuitive Birthing\, 107 Sternberg Street\, Kennington\, VIC\, 355
 0\, Australia
END:VEVENT
END:VCALENDAR
