BEGIN:VCALENDAR
VERSION:2.0
PRODID:-//Squarespace Inc/Squarespace 6//v6//EN
BEGIN:VEVENT
UID:5c71096e971a1842777d4e26@squarespace.com
DTSTAMP:20190226T234909Z
DTSTART:20190505T040000Z
DTEND:20190505T063000Z
SUMMARY:April/May HypnoBirthing Course (Class 2/5)
GEO:-36.768476;144.29245
LOCATION:Intuitive Birthing\, 107 Sternberg Street\, Kennington\, VIC\, 355
 0\, Australia
END:VEVENT
END:VCALENDAR
