BEGIN:VCALENDAR
VERSION:2.0
PRODID:-//Squarespace Inc/Squarespace 6//v6//EN
BEGIN:VEVENT
UID:5c6f5e2f652dea80043bcf0f@squarespace.com
DTSTAMP:20190222T023126Z
DTSTART:20190407T040000Z
DTEND:20190407T063000Z
SUMMARY:March HypnoBirthing Course (Class 5/5)
GEO:-36.766151;144.258443
LOCATION:Intuitive Birthing\, 299 Rowan Street\, Golden Square Vic\, Austra
 lia
END:VEVENT
END:VCALENDAR
