BEGIN:VCALENDAR
VERSION:2.0
PRODID:-//Squarespace Inc/Squarespace 6//v6//EN
BEGIN:VEVENT
UID:5c6f5d7224a694dc81c5ee22@squarespace.com
DTSTAMP:20190222T022600Z
DTSTART:20190303T030000Z
DTEND:20190303T053000Z
SUMMARY:March HypnoBirthing Course (Class 1/5)
GEO:-36.766151;144.258443
LOCATION:Intuitive Birthing\, 299 Rowan Street\, Golden Square Vic\, Austra
 lia
END:VEVENT
END:VCALENDAR
