BEGIN:VCALENDAR
VERSION:2.0
PRODID:-//Squarespace Inc/Squarespace 6//v6//EN
BEGIN:VEVENT
UID:5e32b1ce58164e71d2790a8c@squarespace.com
DTSTAMP:20200130T103716Z
DTSTART:20200405T010000Z
DTEND:20200405T023000Z
SUMMARY:FREE AMAZING BIRTH SESSION
GEO:-36.768476;144.29245
LOCATION:Intuitive Birthing\, 107 Sternberg Street\, Kennington\, VIC\, 355
 0\, Australia
END:VEVENT
END:VCALENDAR
