BEGIN:VCALENDAR
VERSION:2.0
PRODID:-//Squarespace Inc/Squarespace 6//v6//EN
BEGIN:VEVENT
UID:5e32b170cd95a406db16bf38@squarespace.com
DTSTAMP:20200130T103650Z
DTSTART:20200209T000000Z
DTEND:20200209T013000Z
SUMMARY:FREE AMAZING BIRTH SESSION
GEO:-36.768476;144.29245
LOCATION:Intuitive Birthing\, 107 Sternberg Street\, Kennington\, VIC\, 355
 0\, Australia
END:VEVENT
END:VCALENDAR
