BEGIN:VCALENDAR
VERSION:2.0
PRODID:-//Squarespace Inc/Squarespace 6//v6//EN
BEGIN:VEVENT
UID:5d6a3d2e68abb20001f25c7f@squarespace.com
DTSTAMP:20190831T092632Z
DTSTART:20191006T000000Z
DTEND:20191006T013000Z
SUMMARY:FREE AMAZING BIRTH SESSION 
GEO:-36.768476;144.29245
LOCATION:Intuitive Birthing\, 107 Sternberg Street\, Kennington\, VIC\, 355
 0\, Australia
END:VEVENT
END:VCALENDAR
