BEGIN:VCALENDAR
VERSION:2.0
PRODID:-//Squarespace Inc/Squarespace 6//v6//EN
BEGIN:VEVENT
UID:5d4d33176cd4d2000108b2e6@squarespace.com
DTSTAMP:20190809T084747Z
DTSTART:20190915T010000Z
DTEND:20190915T023000Z
SUMMARY:FREE AMAZING BIRTH SESSION 
GEO:-36.768476;144.29245
LOCATION:Intuitive Birthing\, 107 Sternberg Street\, Kennington\, VIC\, 355
 0\, Australia
END:VEVENT
END:VCALENDAR
