BEGIN:VCALENDAR
VERSION:2.0
PRODID:-//Squarespace Inc/Squarespace 6//v6//EN
BEGIN:VEVENT
UID:5cdbc377e79c70fcb0caa97d@squarespace.com
DTSTAMP:20190515T074526Z
DTSTART:20190616T010000Z
DTEND:20190616T023000Z
SUMMARY:FREE AMAZING BIRTH SESSION 
GEO:-36.768476;144.29245
LOCATION:Intuitive Birthing\, 107 Sternberg Street\, Kennington\, VIC\, 355
 0\, Australia
END:VEVENT
END:VCALENDAR
