BEGIN:VCALENDAR
VERSION:2.0
PRODID:-//Squarespace Inc/Squarespace 6//v6//EN
BEGIN:VEVENT
UID:5be0f0ce40ec9a5f62c491e9@squarespace.com
DTSTAMP:20181109T114118Z
DTSTART:20190210T000000Z
DTEND:20190210T013000Z
SUMMARY:Free Gentle Birth info session 
GEO:-36.768476;144.29245
LOCATION:Intuitive Birthing\, 107 Sternberg Street\, Kennington\, VIC\, 355
 0\, Australia
END:VEVENT
END:VCALENDAR
