BEGIN:VCALENDAR
VERSION:2.0
PRODID:-//Squarespace Inc/Squarespace 6//v6//EN
BEGIN:VEVENT
UID:5be0f0b5aa4a99acc7bed67e@squarespace.com
DTSTAMP:20181109T114009Z
DTSTART:20190113T000000Z
DTEND:20190113T013000Z
SUMMARY:Free Gentle Birth info session 
GEO:-36.768476;144.29245
LOCATION:Intuitive Birthing\, 107 Sternberg Street\, Kennington\, VIC\, 355
 0\, Australia
END:VEVENT
END:VCALENDAR
