BEGIN:VCALENDAR
VERSION:2.0
PRODID:-//Squarespace Inc/Squarespace 6//v6//EN
BEGIN:VEVENT
UID:5cdb96bdc8302598e351e89b@squarespace.com
DTSTAMP:20190809T080217Z
DTSTART:20190908T040000Z
DTEND:20190908T063000Z
SUMMARY:September HypnoBirthing Course Class #1
GEO:-36.768476;144.29245
LOCATION:Intuitive Birthing\, 107 Sternberg Street\, Kennington\, VIC\, 355
 0\, Australia
END:VEVENT
END:VCALENDAR
