BEGIN:VCALENDAR
VERSION:2.0
PRODID:-//Squarespace Inc/Squarespace 6//v6//EN
BEGIN:VEVENT
UID:5cdb9729f9619a6ac6b9e8c3@squarespace.com
DTSTAMP:20190809T080158Z
DTSTART:20190915T040000Z
DTEND:20190915T063000Z
SUMMARY:September HypnoBirthing Course Class #2
GEO:-36.768476;144.29245
LOCATION:Intuitive Birthing\, 107 Sternberg Street\, Kennington\, VIC\, 355
 0\, Australia
END:VEVENT
END:VCALENDAR
