BEGIN:VCALENDAR
VERSION:2.0
PRODID:-//Squarespace Inc/Squarespace 6//v6//EN
BEGIN:VEVENT
UID:5cdb97ef8165f5cb00046df9@squarespace.com
DTSTAMP:20190515T043956Z
DTSTART:20191006T030000Z
DTEND:20191006T053000Z
SUMMARY:September HypnoBirthing Course Class #5
GEO:-36.768476;144.29245
LOCATION:Intuitive Birthing\, 107 Sternberg Street\, Kennington\, VIC\, 355
 0\, Australia
END:VEVENT
END:VCALENDAR
