BEGIN:VCALENDAR
VERSION:2.0
PRODID:-//Squarespace Inc/Squarespace 6//v6//EN
BEGIN:VEVENT
UID:5cdb97d09140b790b0befb48@squarespace.com
DTSTAMP:20190515T043901Z
DTSTART:20190929T040000Z
DTEND:20190929T063000Z
SUMMARY:September HypnoBirthing Course Class #4
GEO:-36.768476;144.29245
LOCATION:Intuitive Birthing\, 107 Sternberg Street\, Kennington\, VIC\, 355
 0\, Australia
END:VEVENT
END:VCALENDAR
