BEGIN:VCALENDAR
VERSION:2.0
PRODID:-//Squarespace Inc/Squarespace 6//v6//EN
BEGIN:VEVENT
UID:5cdb977f4e17b630b28988c9@squarespace.com
DTSTAMP:20190515T043840Z
DTSTART:20190922T040000Z
DTEND:20190922T063000Z
SUMMARY:September HypnoBirthing Course Class #3
GEO:-36.768476;144.29245
LOCATION:Intuitive Birthing\, 107 Sternberg Street\, Kennington\, VIC\, 355
 0\, Australia
END:VEVENT
END:VCALENDAR
