BEGIN:VCALENDAR
VERSION:2.0
PRODID:-//Squarespace Inc/Squarespace 6//v6//EN
BEGIN:VEVENT
UID:5cdb9497e4966b9daaf85696@squarespace.com
DTSTAMP:20190809T075031Z
DTSTART:20190811T040000Z
DTEND:20190811T063000Z
SUMMARY:July/August HypnoBirthing Course Class #3
GEO:-36.768476;144.29245
LOCATION:Intuitive Birthing\, 107 Sternberg Street\, Kennington\, VIC\, 355
 0\, Australia
END:VEVENT
END:VCALENDAR
