BEGIN:VCALENDAR
VERSION:2.0
PRODID:-//Squarespace Inc/Squarespace 6//v6//EN
BEGIN:VEVENT
UID:5cdb9390f4e1fcd31e495e0d@squarespace.com
DTSTAMP:20190515T042152Z
DTSTART:20190804T040000Z
DTEND:20190804T063000Z
SUMMARY: July/August HypnoBirthing Course Class #2
GEO:-36.768476;144.29245
LOCATION:Intuitive Birthing\, 107 Sternberg Street\, Kennington\, VIC\, 355
 0\, Australia
END:VEVENT
END:VCALENDAR
