BEGIN:VCALENDAR
VERSION:2.0
PRODID:-//Squarespace Inc/Squarespace 6//v6//EN
BEGIN:VEVENT
UID:5cdb92db651f0d0001c3bcf9@squarespace.com
DTSTAMP:20190515T042032Z
DTSTART:20190728T040000Z
DTEND:20190728T063000Z
SUMMARY:July/August HypnoBirthing Course Class #1
GEO:-36.768476;144.29245
LOCATION:Intuitive Birthing\, 107 Sternberg Street\, Kennington\, VIC\, 355
 0\, Australia
END:VEVENT
END:VCALENDAR
