BEGIN:VCALENDAR
VERSION:2.0
PRODID:-//Squarespace Inc/Squarespace 6//v6//EN
BEGIN:VEVENT
UID:5cdb90c2ec212d2d3b72c160@squarespace.com
DTSTAMP:20190515T040920Z
DTSTART:20190616T040000Z
DTEND:20190616T063000Z
SUMMARY:June/July HypnoBirthing Course Class #1
GEO:-36.768476;144.29245
LOCATION:Intuitive Birthing\, 107 Sternberg Street\, Kennington\, VIC\, 355
 0\, Australia
END:VEVENT
END:VCALENDAR
