BEGIN:VCALENDAR
VERSION:2.0
PRODID:-//Squarespace Inc/Squarespace 6//v6//EN
BEGIN:VEVENT
UID:5cdb927e652dea4d46e55096@squarespace.com
DTSTAMP:20190515T041703Z
DTSTART:20190714T040000Z
DTEND:20190714T063000Z
SUMMARY:June/July HypnoBirthing Course Class #5
GEO:-36.768476;144.29245
LOCATION:Intuitive Birthing\, 107 Sternberg Street\, Kennington\, VIC\, 355
 0\, Australia
END:VEVENT
END:VCALENDAR
