BEGIN:VCALENDAR
VERSION:2.0
PRODID:-//Squarespace Inc/Squarespace 6//v6//EN
BEGIN:VEVENT
UID:5cdb9236651f0d0001c3b8cb@squarespace.com
DTSTAMP:20190515T041543Z
DTSTART:20190707T040000Z
DTEND:20190707T063000Z
SUMMARY:June/July HypnoBirthing Course Class #4
GEO:-36.768476;144.29245
LOCATION:Intuitive Birthing\, 107 Sternberg Street\, Kennington\, VIC\, 355
 0\, Australia
END:VEVENT
END:VCALENDAR
