BEGIN:VCALENDAR
VERSION:2.0
PRODID:-//Squarespace Inc/Squarespace 6//v6//EN
BEGIN:VEVENT
UID:5b6c1f338985835b3fd0ce10@squarespace.com
DTSTAMP:20190515T041356Z
DTSTART:20190630T040000Z
DTEND:20190630T063000Z
SUMMARY:June/July HypnoBirthing Course Class #3
GEO:-36.768476;144.29245
LOCATION:Intuitive Birthing\, 107 Sternberg Street\, Kennington\, VIC\, 355
 0\, Australia
END:VEVENT
END:VCALENDAR
