BEGIN:VCALENDAR
VERSION:2.0
PRODID:-//Squarespace Inc/Squarespace 6//v6//EN
BEGIN:VEVENT
UID:5d4d2ff87cf2e000015ce7c0@squarespace.com
DTSTAMP:20190810T025556Z
DTSTART:20190924T080000Z
DTEND:20190924T104500Z
SUMMARY:HypnoBirthing Course Class #1
GEO:-36.75993;144.280752
LOCATION:Intuitive Birthing @ Barre Society\, 281A Hargreaves Street\, Bend
 igo\, VIC\, 3550\, Australia
END:VEVENT
END:VCALENDAR
