BEGIN:VCALENDAR
VERSION:2.0
PRODID:-//Squarespace Inc/Squarespace 6//v6//EN
BEGIN:VEVENT
UID:5d4e32d413c1dd00012b5285@squarespace.com
DTSTAMP:20190810T025845Z
DTSTART:20191203T070000Z
DTEND:20191203T094500Z
SUMMARY:Nov/Dec HypnoBirthing Course Class # 3
GEO:-36.75993;144.280752
LOCATION:Intuitive Birthing @ Barre Society\, 281A Hargreaves Street\, Bend
 igo\, VIC\, 3550\, Australia
END:VEVENT
END:VCALENDAR
