BEGIN:VCALENDAR
VERSION:2.0
PRODID:-//Squarespace Inc/Squarespace 6//v6//EN
BEGIN:VEVENT
UID:5d4d31d073d6560001031033@squarespace.com
DTSTAMP:20190810T025828Z
DTSTART:20191008T070000Z
DTEND:20191008T094500Z
SUMMARY:HypnoBirthing Course Class # 3
GEO:-36.75993;144.280752
LOCATION:Intuitive Birthing @ Barre Society\, 281A Hargreaves Street\, Bend
 igo\, VIC\, 3550\, Australia
END:VEVENT
END:VCALENDAR
