BEGIN:VCALENDAR
VERSION:2.0
PRODID:-//Squarespace Inc/Squarespace 6//v6//EN
BEGIN:VEVENT
UID:5e32af37f8043d0750095c8e@squarespace.com
DTSTAMP:20200130T102653Z
DTSTART:20200329T033000Z
DTEND:20200329T061500Z
SUMMARY:March HypnoBirthing Course Class #2 
GEO:-36.768479;144.292546
LOCATION:Intuitive Birthing\, 107 Sternberg Street\, Kennington\, Australia
END:VEVENT
END:VCALENDAR
