BEGIN:VCALENDAR
VERSION:2.0
PRODID:-//Squarespace Inc/Squarespace 6//v6//EN
BEGIN:VEVENT
UID:5e32ad982cd18912ea38d4eb@squarespace.com
DTSTAMP:20200130T102006Z
DTSTART:20200211T073000Z
DTEND:20200211T101500Z
SUMMARY:February HypnoBirthing Course Class #2 
GEO:-36.75993;144.280752
LOCATION:Intuitive Birthing\, Barre Society\, 281A Hargreaves Street Bendig
 o\, Australia
END:VEVENT
END:VCALENDAR
