BEGIN:VCALENDAR
VERSION:2.0
PRODID:-//Squarespace Inc/Squarespace 6//v6//EN
BEGIN:VEVENT
UID:5da992dda2dc037095c16a54@squarespace.com
DTSTAMP:20191018T102518Z
DTSTART:20200119T030000Z
DTEND:20200119T054500Z
SUMMARY:January HypnoBirthing Course Class #2 
GEO:-36.768476;144.29245
LOCATION:Intuitive Birthing\, 107 Sternberg Street\, Kennington\, VIC\, 355
 0\, Australia
END:VEVENT
END:VCALENDAR
