BEGIN:VCALENDAR
VERSION:2.0
PRODID:-//Squarespace Inc/Squarespace 6//v6//EN
BEGIN:VEVENT
UID:5d4e32f2e6a2b00001f7e887@squarespace.com
DTSTAMP:20190810T025916Z
DTSTART:20191210T070000Z
DTEND:20191210T094500Z
SUMMARY:Nov/Dec HypnoBirthing Course Class #4 
GEO:-36.75993;144.280752
LOCATION:Intuitive Birthing @ Barre Society\, 281A Hargreaves Street\, Bend
 igo Vic\, Australia
END:VEVENT
END:VCALENDAR
