BEGIN:VCALENDAR
VERSION:2.0
PRODID:-//Squarespace Inc/Squarespace 6//v6//EN
BEGIN:VEVENT
UID:5d4d3230396cb10001aae6ac@squarespace.com
DTSTAMP:20190810T025858Z
DTSTART:20191022T070000Z
DTEND:20191022T094500Z
SUMMARY:HypnoBirthing Course Class #4 
GEO:-36.75993;144.280752
LOCATION:Intuitive Birthing @ Barre Society\, 281A Hargreaves Street\, Bend
 igo Vic\, Australia
END:VEVENT
END:VCALENDAR
