BEGIN:VCALENDAR
VERSION:2.0
PRODID:-//Squarespace Inc/Squarespace 6//v6//EN
BEGIN:VEVENT
UID:5e32af7adccb3e3e70b77c70@squarespace.com
DTSTAMP:20200130T102814Z
DTSTART:20200405T043000Z
DTEND:20200405T071500Z
SUMMARY:March HypnoBirthing Course Class #3  
GEO:-36.768479;144.292546
LOCATION:Intuitive Birthing\, 107 Sternberg Street\, Kennington\, VIC\, 355
 0\, Australia
END:VEVENT
END:VCALENDAR
