BEGIN:VCALENDAR
VERSION:2.0
PRODID:-//Squarespace Inc/Squarespace 6//v6//EN
BEGIN:VEVENT
UID:5e32ade16fd544780f093691@squarespace.com
DTSTAMP:20200130T102122Z
DTSTART:20200218T073000Z
DTEND:20200218T101500Z
SUMMARY:February HypnoBirthing Course Class #3  
GEO:-36.75993;144.280752
LOCATION:Intuitive Birthing\, Barre Society\, 281A Hargreaves Street Bendig
 o\, Australia
END:VEVENT
END:VCALENDAR
