BEGIN:VCALENDAR
VERSION:2.0
PRODID:-//Squarespace Inc/Squarespace 6//v6//EN
BEGIN:VEVENT
UID:5da9931e7202d65de1607c63@squarespace.com
DTSTAMP:20191018T102612Z
DTSTART:20200202T030000Z
DTEND:20200202T054500Z
SUMMARY:January HypnoBirthing Course Class #3 
GEO:-36.768476;144.29245
LOCATION:Intuitive Birthing\, 107 Sternberg Street\, Kennington\, VIC\, 355
 0\, Australia
END:VEVENT
END:VCALENDAR
