BEGIN:VCALENDAR
VERSION:2.0
PRODID:-//Squarespace Inc/Squarespace 6//v6//EN
BEGIN:VEVENT
UID:5d4d2dc34112640001857dea@squarespace.com
DTSTAMP:20191018T102534Z
DTSTART:20191124T030000Z
DTEND:20191124T054500Z
SUMMARY:November HypnoBirthing Course Class #3 
GEO:-36.768476;144.29245
LOCATION:Intuitive Birthing\, 107 Sternberg Street\, Kennington\, VIC\, 355
 0\, Australia
END:VEVENT
END:VCALENDAR
