BEGIN:VCALENDAR
VERSION:2.0
PRODID:-//Squarespace Inc/Squarespace 6//v6//EN
BEGIN:VEVENT
UID:5d4e3314c70c84000134a5f8@squarespace.com
DTSTAMP:20190810T025946Z
DTSTART:20191217T070000Z
DTEND:20191217T094500Z
SUMMARY:Nov/Dec HypnoBirthing Course Class #5 
GEO:-36.75993;144.280752
LOCATION:Intuitive Birthing @ Barre Society\, 281A Hargreaves Street\, Bend
 igo\, VIC\, 3550\, Australia
END:VEVENT
END:VCALENDAR
