BEGIN:VCALENDAR
VERSION:2.0
PRODID:-//Squarespace Inc/Squarespace 6//v6//EN
BEGIN:VEVENT
UID:5d4d32a56f6b060001a8a110@squarespace.com
DTSTAMP:20190810T025932Z
DTSTART:20191029T070000Z
DTEND:20191029T094500Z
SUMMARY:HypnoBirthing Course Class #5 
GEO:-36.75993;144.280752
LOCATION:Intuitive Birthing @ Barre Society\, 281A Hargreaves Street\, Bend
 igo\, VIC\, 3550\, Australia
END:VEVENT
END:VCALENDAR
