BEGIN:VCALENDAR
VERSION:2.0
PRODID:-//Squarespace Inc/Squarespace 6//v6//EN
BEGIN:VEVENT
UID:5d4e32945b52b400018e0e0f@squarespace.com
DTSTAMP:20190810T025737Z
DTSTART:20191001T080000Z
DTEND:20191001T104500Z
SUMMARY:HypnoBirthing Course Class # 2
GEO:-36.75993;144.280752
LOCATION:Intuitive Birthing @ Barre Society\, 281A Hargreaves Street\, Bend
 igo\, VIC\, 3550\, Australia
END:VEVENT
END:VCALENDAR
