BEGIN:VCALENDAR
VERSION:2.0
PRODID:-//Squarespace Inc/Squarespace 6//v6//EN
BEGIN:VEVENT
UID:5d4d3166f28ae600010fb5bd@squarespace.com
DTSTAMP:20190810T025724Z
DTSTART:20191126T070000Z
DTEND:20191126T094500Z
SUMMARY:Nov/Dec HypnoBirthing Course Class # 2
GEO:-36.75993;144.280752
LOCATION:Intuitive Birthing @ Barre Society\, 281A Hargreaves Street\, Bend
 igo\, VIC\, 3550\, Australia
END:VEVENT
END:VCALENDAR
