BEGIN:VCALENDAR
VERSION:2.0
PRODID:-//Squarespace Inc/Squarespace 6//v6//EN
BEGIN:VEVENT
UID:5e32b122b4e70977cf0adb57@squarespace.com
DTSTAMP:20200130T103459Z
DTSTART:20200303T073000Z
DTEND:20200303T101500Z
SUMMARY:February HypnoBirthing Course Class #4
GEO:-36.75993;144.280752
LOCATION:Intuitive Birthing\, 281A Hargreaves Street\, Bendigo\, VIC\, 3550
 \, Australia
END:VEVENT
END:VCALENDAR
