BEGIN:VCALENDAR
VERSION:2.0
PRODID:-//Squarespace Inc/Squarespace 6//v6//EN
BEGIN:VEVENT
UID:5e32affdcd95a406db16a1d3@squarespace.com
DTSTAMP:20200130T103005Z
DTSTART:20200225T073000Z
DTEND:20200225T101500Z
SUMMARY:February HypnoBirthing Course Class #4
GEO:-36.75993;144.280752
LOCATION:Intuitive Birthing\, 281A Hargreaves Street\, Bendigo\, VIC\, 3550
 \, Australia
END:VEVENT
END:VCALENDAR
