BEGIN:VCALENDAR
VERSION:2.0
PRODID:-//Squarespace Inc/Squarespace 6//v6//EN
BEGIN:VEVENT
UID:5e32ae40dccb3e3e70b76206@squarespace.com
DTSTAMP:20200130T103237Z
DTSTART:20200419T043000Z
DTEND:20200419T071500Z
SUMMARY:March HypnoBirthing Course Class #4 
GEO:-36.768476;144.29245
LOCATION:Intuitive Birthing\, 107 Sternberg Street\, Kennington\, Australia
END:VEVENT
END:VCALENDAR
