BEGIN:VCALENDAR
VERSION:2.0
PRODID:-//Squarespace Inc/Squarespace 6//v6//EN
BEGIN:VEVENT
UID:5da99350055f786aeec01548@squarespace.com
DTSTAMP:20200130T102151Z
DTSTART:20200209T030000Z
DTEND:20200209T054500Z
SUMMARY:January HypnoBirthing Course Class #4
GEO:-36.768476;144.29245
LOCATION:Intuitive Birthing\, 107 Sternberg Street\, Kennington\, Australia
END:VEVENT
END:VCALENDAR
