BEGIN:VCALENDAR
VERSION:2.0
PRODID:-//Squarespace Inc/Squarespace 6//v6//EN
BEGIN:VEVENT
UID:5d4d2ea373d656000102fde9@squarespace.com
DTSTAMP:20191018T102624Z
DTSTART:20191201T030000Z
DTEND:20191201T054500Z
SUMMARY:November HypnoBirthing Course Class #4
GEO:-36.768476;144.29245
LOCATION:Intuitive Birthing\, 107 Sternberg Street\, Kennington\, Australia
END:VEVENT
END:VCALENDAR
