BEGIN:VCALENDAR
VERSION:2.0
PRODID:-//Squarespace Inc/Squarespace 6//v6//EN
BEGIN:VEVENT
UID:5e32ae91b4e70977cf0a89df@squarespace.com
DTSTAMP:20200130T103256Z
DTSTART:20200426T043000Z
DTEND:20200426T071500Z
SUMMARY:March HypnoBirthing Course Class #5 
GEO:-36.768479;144.292546
LOCATION:Intuitive Birthing\, 107 Sternberg Street\, Kennington\, VIC\, 355
 0\, Australia
END:VEVENT
END:VCALENDAR
