BEGIN:VCALENDAR
VERSION:2.0
PRODID:-//Squarespace Inc/Squarespace 6//v6//EN
BEGIN:VEVENT
UID:5da993cfd1a98d3f107233a5@squarespace.com
DTSTAMP:20200130T102306Z
DTSTART:20200216T030000Z
DTEND:20200216T054500Z
SUMMARY:January HypnoBirthing Course Class #5 
GEO:-36.768476;144.29245
LOCATION:Intuitive Birthing\, 107 Sternberg Street\, Kennington\, VIC\, 355
 0\, Australia
END:VEVENT
END:VCALENDAR
